BEGIN:VCALENDAR
VERSION:2.0
PRODID:-//Cathy Gray Ink Work - ECPv6.15.20//NONSGML v1.0//EN
CALSCALE:GREGORIAN
METHOD:PUBLISH
X-WR-CALNAME:Cathy Gray Ink Work
X-ORIGINAL-URL:https://cathygrayinkwork.com.au
X-WR-CALDESC:Events for Cathy Gray Ink Work
REFRESH-INTERVAL;VALUE=DURATION:PT1H
X-Robots-Tag:noindex
X-PUBLISHED-TTL:PT1H
BEGIN:VTIMEZONE
TZID:Australia/Adelaide
BEGIN:STANDARD
TZOFFSETFROM:+1030
TZOFFSETTO:+0930
TZNAME:ACST
DTSTART:20220402T163000
END:STANDARD
BEGIN:DAYLIGHT
TZOFFSETFROM:+0930
TZOFFSETTO:+1030
TZNAME:ACDT
DTSTART:20221001T163000
END:DAYLIGHT
BEGIN:STANDARD
TZOFFSETFROM:+1030
TZOFFSETTO:+0930
TZNAME:ACST
DTSTART:20230401T163000
END:STANDARD
BEGIN:DAYLIGHT
TZOFFSETFROM:+0930
TZOFFSETTO:+1030
TZNAME:ACDT
DTSTART:20230930T163000
END:DAYLIGHT
BEGIN:STANDARD
TZOFFSETFROM:+1030
TZOFFSETTO:+0930
TZNAME:ACST
DTSTART:20240406T163000
END:STANDARD
BEGIN:DAYLIGHT
TZOFFSETFROM:+0930
TZOFFSETTO:+1030
TZNAME:ACDT
DTSTART:20241005T163000
END:DAYLIGHT
END:VTIMEZONE
BEGIN:VEVENT
DTSTART;TZID=Australia/Adelaide:20231119T110000
DTEND;TZID=Australia/Adelaide:20231119T130000
DTSTAMP:20260425T201134
CREATED:20230821T103055Z
LAST-MODIFIED:20230821T103055Z
UID:12568-1700391600-1700398800@cathygrayinkwork.com.au
SUMMARY:Botanical Monoprinting workshop- Jungle in Willunga
DESCRIPTION:Botanical Monoprint Workshop with Cathy Gray and Karen Judd – Held at Jungle in Willunga\n Sunday 19th November \n11 – 1.30pm \n\n\n\n\nCome along and create a mandala using a combination of foraged leaves\, flowers and ink. Leaf printing is a great way to connect back to nature. You will choose the leaves from a big selection we provide. If you have any leaves you would like to print\, you are also welcome to bring them (smaller leaves are better).  In this fun workshop you will get to create a botanical mandala through a relief printing process. \n\nIncluded in this workshop \n\nA3 gridded art paper\nGuidance from artists Cathy Gray and Karen Judd\nAssortment of leaves\, petals and flowers\nInk pad\nRefreshments and Nibbles provided by Jungle in Willunga\n\n  \nThis workshop is suitable for beginners and all ages. \nCome alone or grab a group of friends and join us. \n\nKaren and I will take photos during the workshop for social media\, please let us know if you do not wish to have your face shown on social media. \nTickets are non-refundable  If you purchase a ticket and are unable to attend\, please email inkwork@adam.com.au to discuss options. \n 
URL:https://cathygrayinkwork.com.au/event/botanical-monoprinting-workshop-jungle-in-willunga/
CATEGORIES:Workshops
ATTACH;FMTTYPE=image/png:https://cathygrayinkwork.com.au/wp-content/uploads/2022/06/Botanical-monoprint-workshop.png
END:VEVENT
BEGIN:VEVENT
DTSTART;TZID=Australia/Adelaide:20231123T183000
DTEND;TZID=Australia/Adelaide:20231123T203000
DTSTAMP:20260425T201134
CREATED:20230927T074252Z
LAST-MODIFIED:20230927T074252Z
UID:12647-1700764200-1700771400@cathygrayinkwork.com.au
SUMMARY:Botanical Monoprint Workshop with Cathy Gray and Karen Judd
DESCRIPTION:Botanical Monoprint Workshop with Cathy Gray and Karen Judd\n\n\n\nThursday 23rd November 6.30\nCome along and create a mandala using a combination of foraged leaves\, flowers and ink. Leaf printing is a great way to connect back to nature. You will choose the leaves from a big selection we provide. If you have any leaves you would like to print\, you are also welcome to bring them (smaller leaves are better).  In this fun workshop you will get to create a botanical mandala through a relief printing process. \n\nIncluded in this workshop \n\nA2 gridded art paper\nGuidance from artists Cathy Gray and Karen Judd\nAssortment of leaves\, petals and flowers\nmotif sheets\nInk pad and paints\nGlass of bubbles and cheese plate\n\nThis workshop is suitable for beginners and all ages. \nCome alone or grab a group of friends and join us. \n\nKaren and I will take photos during the workshop for social media\, please let us know if you do not wish to have your face shown on social media. \nTickets are non-refundable  If you purchase a ticket and are unable to attend\, please email inkwork@adam.com.au to discuss options.
URL:https://cathygrayinkwork.com.au/event/botanical-monoprint-workshop-with-cathy-gray-and-karen-judd-8/
CATEGORIES:Workshops
ATTACH;FMTTYPE=image/png:https://cathygrayinkwork.com.au/wp-content/uploads/2022/06/Botanical-monoprint-workshop.png
END:VEVENT
BEGIN:VEVENT
DTSTART;TZID=Australia/Adelaide:20231124T183000
DTEND;TZID=Australia/Adelaide:20231124T210000
DTSTAMP:20260425T201134
CREATED:20231020T100324Z
LAST-MODIFIED:20231122T222512Z
UID:12717-1700850600-1700859600@cathygrayinkwork.com.au
SUMMARY:Mandala Workshop with Cathy Gray Friday 24th Nov
DESCRIPTION:Mandala Workshop with Cathy Gray\nFriday 24th Nov 6.30pm – 9pm\nPaper or Wooden Round\nGive yourself the gift of time\, an opportunity to slow down in mind and body\, shut off the business of the day and rest. Join me for my workshop at my home studio in Bridgewater\, just 10mins from the bottom of the Freeway. Whether you are experienced or a total beginner there is something to learn in my workshops. \nClass size 12 pax \n\nI will be teaching mandalas working on the grid system\nComplete beginners to advanced\nVenue – Home studio in Bridgewater\, Adelaide Hills\nDuration – 2.5 hours\nWhat to bring – Nothing but your creativity\nTake home – Created art\n$80.00 – $120.00\n\n\n#createwithoutexpectation \n\nWooden boards will vary depending on availability as well as the use of black or white poscas \nPhotos will be taken during the workshop for social media\, please let us know if you do not wish to have your face shown on social media. \nTickets are non-refundable.  If you purchase a ticket and are unable to attend\, please email inkwork@adam.com.au to discuss options \n12 pax
URL:https://cathygrayinkwork.com.au/event/mandala-workshop-with-cathy-gray-friday-24th-nov/
CATEGORIES:Workshops
ATTACH;FMTTYPE=image/png:https://cathygrayinkwork.com.au/wp-content/uploads/2022/08/Carafe-Health-and-Beauty-Online-Store-Website-22.png
END:VEVENT
END:VCALENDAR