BEGIN:VCALENDAR
VERSION:2.0
PRODID:-//Cathy Gray Ink Work - ECPv6.15.20//NONSGML v1.0//EN
CALSCALE:GREGORIAN
METHOD:PUBLISH
X-WR-CALNAME:Cathy Gray Ink Work
X-ORIGINAL-URL:https://cathygrayinkwork.com.au
X-WR-CALDESC:Events for Cathy Gray Ink Work
REFRESH-INTERVAL;VALUE=DURATION:PT1H
X-Robots-Tag:noindex
X-PUBLISHED-TTL:PT1H
BEGIN:VTIMEZONE
TZID:Australia/Adelaide
BEGIN:STANDARD
TZOFFSETFROM:+1030
TZOFFSETTO:+0930
TZNAME:ACST
DTSTART:20230401T163000
END:STANDARD
BEGIN:DAYLIGHT
TZOFFSETFROM:+0930
TZOFFSETTO:+1030
TZNAME:ACDT
DTSTART:20230930T163000
END:DAYLIGHT
BEGIN:STANDARD
TZOFFSETFROM:+1030
TZOFFSETTO:+0930
TZNAME:ACST
DTSTART:20240406T163000
END:STANDARD
BEGIN:DAYLIGHT
TZOFFSETFROM:+0930
TZOFFSETTO:+1030
TZNAME:ACDT
DTSTART:20241005T163000
END:DAYLIGHT
BEGIN:STANDARD
TZOFFSETFROM:+1030
TZOFFSETTO:+0930
TZNAME:ACST
DTSTART:20250405T163000
END:STANDARD
BEGIN:DAYLIGHT
TZOFFSETFROM:+0930
TZOFFSETTO:+1030
TZNAME:ACDT
DTSTART:20251004T163000
END:DAYLIGHT
END:VTIMEZONE
BEGIN:VEVENT
DTSTART;TZID=Australia/Adelaide:20240204T103000
DTEND;TZID=Australia/Adelaide:20240204T123000
DTSTAMP:20260422T020400
CREATED:20231122T231709Z
LAST-MODIFIED:20231122T231919Z
UID:12815-1707042600-1707049800@cathygrayinkwork.com.au
SUMMARY:Botanical Monoprint Workshop with Cathy Gray and Karen Judd
DESCRIPTION:Botanical Monoprint Workshop with Cathy Gray and Karen Judd\n\n\n\nSunday 4th Feb 10.30am\nCome along and create a mandala using a combination of foraged leaves\, flowers and ink. Leaf printing is a great way to connect back to nature. You will choose the leaves from a big selection we provide. If you have any leaves you would like to print\, you are also welcome to bring them (smaller leaves are better).  In this fun workshop you will get to create a botanical mandala through a relief printing process. \n\nIncluded in this workshop \n\nA2 gridded art paper\nGuidance from artists Cathy Gray and Karen Judd\nAssortment of leaves\, petals and flowers\nmotif sheets\nInk pad and paints\nGlass of bubbles and cheese plate evening class\nCoffee and Cake morning class\n\nThis workshop is suitable for beginners and all ages. \nCome alone or grab a group of friends and join us. \n\nKaren and I will take photos during the workshop for social media\, please let us know if you do not wish to have your face shown on social media. \nTickets are non-refundable  If you purchase a ticket and are unable to attend\, please email inkwork@adam.com.au to discuss options.
URL:https://cathygrayinkwork.com.au/event/botanical-monoprint-workshop-with-cathy-gray-and-karen-judd-4/
CATEGORIES:Workshops
ATTACH;FMTTYPE=image/png:https://cathygrayinkwork.com.au/wp-content/uploads/2022/06/Botanical-monoprint-workshop.png
END:VEVENT
BEGIN:VEVENT
DTSTART;TZID=Australia/Adelaide:20240218T103000
DTEND;TZID=Australia/Adelaide:20240218T130000
DTSTAMP:20260422T020400
CREATED:20231122T225439Z
LAST-MODIFIED:20231122T225439Z
UID:12808-1708252200-1708261200@cathygrayinkwork.com.au
SUMMARY:Mandala workshop with Cathy gray
DESCRIPTION:Mandala Workshop with Cathy Gray\nSunday Feb 18th 10.30am\nPaper or Wooden Round\nGive yourself the gift of time\, an opportunity to slow down in mind and body\, shut off the business of the day and rest. Join me for my workshop at my home studio in Bridgewater\, just 10mins from the bottom of the Freeway. Whether you are experienced or a total beginner there is something to learn in my workshops. \nClass size 12 pax \n\nI will be teaching mandalas working on the grid system\nComplete beginners to advanced\nVenue – Home studio in Bridgewater\, Adelaide Hills\nDuration – 2.5 hours\nWhat to bring – Nothing but your creativity\nTake home – Created art\n$80.00 – $120.00\n\n\n#createwithoutexpectation \n\nWooden boards will vary depending on availability as well as the use of black or white poscas \nPhotos will be taken during the workshop for social media\, please let us know if you do not wish to have your face shown on social media. \nTickets are non-refundable.  If you purchase a ticket and are unable to attend\, please email inkwork@adam.com.au to discuss options \n12 pax
URL:https://cathygrayinkwork.com.au/event/mandala-workshop-with-cathy-gray-16/
CATEGORIES:Workshops
ATTACH;FMTTYPE=image/png:https://cathygrayinkwork.com.au/wp-content/uploads/2022/08/Carafe-Health-and-Beauty-Online-Store-Website-22.png
END:VEVENT
BEGIN:VEVENT
DTSTART;TZID=Australia/Adelaide:20240223T183000
DTEND;TZID=Australia/Adelaide:20240223T203000
DTSTAMP:20260422T020400
CREATED:20231122T234135Z
LAST-MODIFIED:20240128T212947Z
UID:12828-1708713000-1708720200@cathygrayinkwork.com.au
SUMMARY:Botanical Monoprint Workshop with Cathy Gray and Karen Judd
DESCRIPTION:Botanical Monoprint Workshop with Cathy Gray and Karen Judd\n\n\n\nFriday 23rd Feb 6.30pm\nCome along and create a mandala using a combination of foraged leaves\, flowers and ink. Leaf printing is a great way to connect back to nature. You will choose the leaves from a big selection we provide. If you have any leaves you would like to print\, you are also welcome to bring them (smaller leaves are better).  In this fun workshop you will get to create a botanical mandala through a relief printing process. \n\nIncluded in this workshop \n\nA2 gridded art paper\nGuidance from artists Cathy Gray and Karen Judd\nAssortment of leaves\, petals and flowers\nmotif sheets\nInk pad and paints\nGlass of bubbles and cheese plate\n\nThis workshop is suitable for beginners and all ages. \nCome alone or grab a group of friends and join us. \n\nKaren and I will take photos during the workshop for social media\, please let us know if you do not wish to have your face shown on social media. \nTickets are non-refundable  If you purchase a ticket and are unable to attend\, please email inkwork@adam.com.au to discuss options.
URL:https://cathygrayinkwork.com.au/event/botanical-monoprint-workshop-with-cathy-gray-and-karen-judd-10/
CATEGORIES:Workshops
ATTACH;FMTTYPE=image/png:https://cathygrayinkwork.com.au/wp-content/uploads/2022/06/Botanical-monoprint-workshop.png
END:VEVENT
BEGIN:VEVENT
DTSTART;TZID=Australia/Adelaide:20240225T103000
DTEND;TZID=Australia/Adelaide:20240225T123000
DTSTAMP:20260422T020400
CREATED:20231122T233341Z
LAST-MODIFIED:20240207T105631Z
UID:12822-1708857000-1708864200@cathygrayinkwork.com.au
SUMMARY:Botany Terrarium Workshop with Cathy Gray and Karen Judd
DESCRIPTION:Botany Terrarium Workshop with Cathy Gray and Karen Judd\n\n\n\nSunday 25th Feb 10.30am\n\n\n\nMy Bridgewater studio will be transformed into a indoor garden with our Terrarium workshop.  In this fun workshop you will get to creat your own little mini world.\n\n\nIncluded in this workshop\n\nMedium Terrarium 14­ – 24cm diameter\nGuidance from artists Cathy Gray and Karen Judd\nAssortment of sand\, stones\, plants\, moss and other bits and pieces\nCare sheet\nStone to draw on\nPaper available too draw your design.  \nMorning class coffee and cake\nEvening class bubbles and cheese\nPosca paint pens\n\nBefore coming you may want to have a look on our Instagram page for design ideas. \n\nThis workshop is suitable for beginners and all ages.\nCome alone or grab a group of friends and join us. \n\n#Createwithoutexpectaion \nKaren and I will take photos during the workshop for social media\, please let us know if you do not wish to have your face shown on social media. \nTickets are non-refundable  If you purchase a ticket and are unable to attend\, please email inkwork@adam.com.au to discuss options. \n9 pax
URL:https://cathygrayinkwork.com.au/event/botany-terrarium-workshop-with-cathy-gray-and-karen-judd-7/
CATEGORIES:Workshops
ATTACH;FMTTYPE=image/png:https://cathygrayinkwork.com.au/wp-content/uploads/2021/11/Carafe-Health-and-Beauty-Online-Store-Website-6.png
END:VEVENT
END:VCALENDAR