BEGIN:VCALENDAR
VERSION:2.0
PRODID:-//Cathy Gray Ink Work - ECPv6.15.20//NONSGML v1.0//EN
CALSCALE:GREGORIAN
METHOD:PUBLISH
X-WR-CALNAME:Cathy Gray Ink Work
X-ORIGINAL-URL:https://cathygrayinkwork.com.au
X-WR-CALDESC:Events for Cathy Gray Ink Work
REFRESH-INTERVAL;VALUE=DURATION:PT1H
X-Robots-Tag:noindex
X-PUBLISHED-TTL:PT1H
BEGIN:VTIMEZONE
TZID:Australia/Adelaide
BEGIN:STANDARD
TZOFFSETFROM:+1030
TZOFFSETTO:+0930
TZNAME:ACST
DTSTART:20240406T163000
END:STANDARD
BEGIN:DAYLIGHT
TZOFFSETFROM:+0930
TZOFFSETTO:+1030
TZNAME:ACDT
DTSTART:20241005T163000
END:DAYLIGHT
BEGIN:STANDARD
TZOFFSETFROM:+1030
TZOFFSETTO:+0930
TZNAME:ACST
DTSTART:20250405T163000
END:STANDARD
BEGIN:DAYLIGHT
TZOFFSETFROM:+0930
TZOFFSETTO:+1030
TZNAME:ACDT
DTSTART:20251004T163000
END:DAYLIGHT
BEGIN:STANDARD
TZOFFSETFROM:+1030
TZOFFSETTO:+0930
TZNAME:ACST
DTSTART:20260404T163000
END:STANDARD
BEGIN:DAYLIGHT
TZOFFSETFROM:+0930
TZOFFSETTO:+1030
TZNAME:ACDT
DTSTART:20261003T163000
END:DAYLIGHT
END:VTIMEZONE
BEGIN:VEVENT
DTSTART;TZID=Australia/Adelaide:20250411T183000
DTEND;TZID=Australia/Adelaide:20250411T210000
DTSTAMP:20260423T014441
CREATED:20250216T070227Z
LAST-MODIFIED:20250318T102005Z
UID:14023-1744396200-1744405200@cathygrayinkwork.com.au
SUMMARY:Mandala Drawing Workshop
DESCRIPTION:Mandala Drawing Workshop\n\n\n\nFriday 11th April\n6.30pm \nMandala Workshop\nJust a short trip up the Freeway\, in the picturesque town of Bridgewater\, I invite you to immerse yourself in the calming world of creativity. workshop offers a perfect escape from the hustle and bustle of daily life. \nWhat to Expect\nMaterials \nDuring the workshop\, you will have the option to choose between working with paper or wooden rounds. Each material offers a unique experience: \n\n\n\nPaper: Ideal for those who enjoy delicate\, detailed pen work. \n\n\nWooden Rounds: Using Posca paint pen in either black or white you will create larger patterns and designs ( boards are decorative only). \n\n\n\nThis workshop is designed to provide a balance of learning and relaxation. Whether you’re a seasoned artist or a beginner\, you’ll find new skills to acquire and techniques to refine. The focus is not only on creating art but also on enjoying the process and allowing yourself to unwind. \nWorkshop Benefits\n\n\n\nSkill Development: Gain hands-on experience in various tricks and techniques. \n\n\nCreative Expression: Use art as a form of self-expression and communication. \n\n\nMindfulness:  promote mindfulness and relaxation. \n\n\nCommunity: Connect with like-minded individuals and share in a supportive environment. \n\n\n\nJoin me for a session that promises to relax and quieten your mind \nThis workshop is designed for all levels of creativity\, welcoming even those who might doubt their artistic abilities. \nIncluded in This Workshop\n\n\n\nA3 gridded art paper\nGuidance from artist Cathy Gray\nA selection of fine liner pens to use\nExamples and ideas\nGlass of bubbles and cheese plate (evening class)\nCoffee and cake (morning class)\nArtwork to take home\n\n\n\nThis workshop is held in my studio in Bridgewater and is suitable for beginners and all ages. \nOther Workshops\n\n\n\nBotanical Relief Printing \n\n\nMandala drawing on wooden boards \n\n\nSchool holiday workshops \n\n\nTerrarium workshops \n\n\n\nCorporate workshops are available both on-site and off-site. For more information\, please email Cathy or click on this link. \nAdditional Details\n\nFinished work: Artwork may not be finished in time frame\, but Cathy will help after the class via text message\n\n\n\n\nParking: Please park in the driveway if there is space. \n\n\nParticipation: Come alone or grab a group of friends and join me. \n\n\nPhotography: I will take photos during the workshop for social media. Please let me know if you do not wish to have your face shown on social media. \n\n\nTickets: Tickets are non-refundable. If you purchase a ticket and are unable to attend\, please email inkwork@adam.com.au to discuss options. \n\nBoard size: May vary in size depending on what is available\n\n\n\n\n \nScreenshot
URL:https://cathygrayinkwork.com.au/event/mandala-drawing-workshop-6/
CATEGORIES:Workshops
ATTACH;FMTTYPE=image/png:https://cathygrayinkwork.com.au/wp-content/uploads/2022/08/Carafe-Health-and-Beauty-Online-Store-Website-22.png
END:VEVENT
BEGIN:VEVENT
DTSTART;TZID=Australia/Adelaide:20250412T103000
DTEND;TZID=Australia/Adelaide:20250412T123000
DTSTAMP:20260423T014441
CREATED:20250216T072236Z
LAST-MODIFIED:20250216T072236Z
UID:14038-1744453800-1744461000@cathygrayinkwork.com.au
SUMMARY:Botanical Relief Printing Workshop
DESCRIPTION:Botanical Relief Printing Workshop\n\n\n\nSaturday 12th March\n10.30am \nCome along and create a mandala or abstract design using a combination of foraged leaves\, flowers\, and ink. Leaf printing is a wonderful way to reconnect with nature. Cathy has crafted a serene and inviting space in her home studio\, allowing you to escape daily stresses and embrace your inner creativity. Choose from a large selection of provided leaves\, or bring your own for a personalised touch (smaller leaves are ideal). Our participants have included chefs printing leaves and flowers from edible plants and gardeners showcasing their own plants. With each season\, new leaves bring fresh inspiration. \nThis workshop is designed for all levels of creativity\, welcoming even those who might doubt their artistic abilities. \nOther Workshops\n\n\n\nMandala drawing on paper \n\n\nMandala drawing on wooden boards \n\n\nSchool holiday workshops \n\n\nTerrarium workshops \n\n\n\nCorporate workshops are available both on-site and off-site. For more information\, please email Cathy or click on this link. \nIncluded in This Workshop\n\n\n\nA2 gridded art paper\nGuidance from artist Cathy Gray\nAssortment of leaves\, petals\, and flowers\nExamples and ideas\nInk pad\nGlass of bubbles and cheese plate (evening class)\nCoffee and cake (morning class)\nUse of aprons\nTake-home printed artwork\n\n\n\nThis workshop is held in my studio in Bridgewater and is suitable for beginners and all ages. \nAdditional Details\n\n\n\nParking: Please park in the driveway if there is space. \n\n\nParticipation: Come alone or grab a group of friends and join me. \n\n\nPhotography: I will take photos during the workshop for social media. Please let me know if you do not wish to have your face shown on social media. \n\n\nTickets: Tickets are non-refundable. If you purchase a ticket and are unable to attend\, please email inkwork@adam.com.au to discuss options.
URL:https://cathygrayinkwork.com.au/event/botanical-relief-printing-workshop-8/
END:VEVENT
BEGIN:VEVENT
DTSTART;TZID=Australia/Adelaide:20250412T103000
DTEND;TZID=Australia/Adelaide:20250412T123000
DTSTAMP:20260423T014441
CREATED:20250216T073003Z
LAST-MODIFIED:20250318T102605Z
UID:14045-1744453800-1744461000@cathygrayinkwork.com.au
SUMMARY:Botanical Relief Printing Workshop
DESCRIPTION:Botanical Relief Printing Workshop\n\n\n\nSaturday 12th April\n10.30am \nCome along and create a mandala or abstract design using a combination of foraged leaves\, flowers\, and ink. Leaf printing is a wonderful way to reconnect with nature. Cathy has crafted a serene and inviting space in her home studio\, allowing you to escape daily stresses and embrace your inner creativity. Choose from a large selection of provided leaves\, or bring your own for a personalised touch (smaller leaves are ideal). Our participants have included chefs printing leaves and flowers from edible plants and gardeners showcasing their own plants. With each season\, new leaves bring fresh inspiration. \nThis workshop is designed for all levels of creativity\, welcoming even those who might doubt their artistic abilities. \nOther Workshops\n\n\n\nMandala drawing on paper \n\n\nMandala drawing on wooden boards \n\n\nSchool holiday workshops \n\n\nTerrarium workshops \n\n\n\nCorporate workshops are available both on-site and off-site. For more information\, please email Cathy or click on this link. \nIncluded in This Workshop\n\n\n\nA2 gridded art paper\nGuidance from artist Cathy Gray\nAssortment of leaves\, petals\, and flowers\nExamples and ideas\nInk pad\nGlass of bubbles and cheese plate (evening class)\nCoffee and cake (morning class)\nUse of aprons\nTake-home printed artwork\n\n\n\nThis workshop is held in my studio in Bridgewater and is suitable for beginners and all ages. \nAdditional Details\n\n\n\nParking: Please park in the driveway if there is space. \n\n\nParticipation: Come alone or grab a group of friends and join me. \n\n\nPhotography: I will take photos during the workshop for social media. Please let me know if you do not wish to have your face shown on social media. \n\n\nTickets: Tickets are non-refundable. If you purchase a ticket and are unable to attend\, please email inkwork@adam.com.au to discuss options.
URL:https://cathygrayinkwork.com.au/event/botanical-relief-printing-workshop-9/
CATEGORIES:Workshops
ATTACH;FMTTYPE=image/png:https://cathygrayinkwork.com.au/wp-content/uploads/2022/06/Botanical-monoprint-workshop.png
END:VEVENT
BEGIN:VEVENT
DTSTART;TZID=Australia/Adelaide:20250415T103000
DTEND;TZID=Australia/Adelaide:20250415T123000
DTSTAMP:20260423T014441
CREATED:20250310T120756Z
LAST-MODIFIED:20250310T120756Z
UID:14104-1744713000-1744720200@cathygrayinkwork.com.au
SUMMARY:School Holiday Botanical Mono Print Workshop or Mandala Drawing
DESCRIPTION:School Holiday Botanical Mono Print Workshop or Mandala DrawingApril 15th | 10:30 AM – 12:30 PM \nJoin us for a creative morning where you can either design a mandala using foraged leaves\, flowers\, and ink or draw your own mandala in ink pen. \nMandalas are a wonderful way to unlock your creativity and build confidence with drawing—this workshop is open to everyone\, regardless of experience. \nBotanical Leaf Printing offers a unique way to connect with nature. You’ll have a variety of leaves to choose from\, or feel free to bring your own (smaller leaves work best!). During the workshop\, you’ll create a beautiful botanical mandala using a relief printing technique. \nWhat’s Included:\n\nA3 gridded art paper\nExpert guidance from artist Cathy Gray\nA selection of leaves\, petals\, and flowers\nInk pads and paints\nJuice or water and a packet of popcorn\n\nAges: Suitable for children aged 8-16Hashtag: #CreateWithoutExpectation \nI will be capturing photos during the workshop for social media. Rest assured\, children’s faces will not be shown without permission. \nClearance: \n\nWWCC (Working With Children Check)\nCatholic Clearance\nPolice Check\n\nParents: Are asked to drop and leave\, due to space restrictions\,  if you would like to stayI am holding a parent and child workshop you may be interested in. https://cathygrayinkwork.com.au/event/parent-and-child-workshop/ \nTicket Policy:Tickets are non-refundable. If you’re unable to attend\, please contact us at inkwork@adam.com.au to discuss alternatives.
URL:https://cathygrayinkwork.com.au/event/school-holiday-botanical-mono-print-workshop-or-mandala-drawing/
CATEGORIES:Workshops
ATTACH;FMTTYPE=image/jpeg:https://cathygrayinkwork.com.au/wp-content/uploads/2024/01/Pink-Aesthetic-Minimalist-Mood-Board-Photo-Collage-Facebook-Cover.jpg
END:VEVENT
BEGIN:VEVENT
DTSTART;TZID=Australia/Adelaide:20250424T103000
DTEND;TZID=Australia/Adelaide:20250424T123000
DTSTAMP:20260423T014441
CREATED:20241202T112152Z
LAST-MODIFIED:20250318T095311Z
UID:13847-1745490600-1745497800@cathygrayinkwork.com.au
SUMMARY:Parent and child Botanical workshop
DESCRIPTION:Parent and child workshop -Botanical relief printing  \nThursday 24th April \n10.30am \nBotanical relief printing.  This workshop will be held in my studio located in Bridgewater at my home. \nBotanical relief print \nEach couple will have 5 cards and A2 paper to create art using a combination of foraged leaves and flowers and ink drawing. Leaf printng is a great way to connect to nature. You will get to choose the leaves from a big selection we will provide. If you have any leaves you would like to print\, you are also welcome to bring them in. \nThis workshop is great for beginners who want to be creative and learn the basics of printmaking. \n\n7 years +\n10.30am – 12.30pm\nMax 5 couples\n$100 per couple\n2 hours\nCreative guidance by artist Cathy Gray\nA2 gridded paper\n5 x cards\n\nWhat you need to know \nPolice clearance/RAN-EC Cert\nDCSI Clearance\nCatholic Clearance \nBridgewater Studio\nCoffee shop is a couple of minutes away in Aldgate \nOther workshops \n\n\n\n\nAdd to calendar\n\n\n\n\n\nFacebook events
URL:https://cathygrayinkwork.com.au/event/parent-and-child-workshop/
CATEGORIES:Workshops
ATTACH;FMTTYPE=image/jpeg:https://cathygrayinkwork.com.au/wp-content/uploads/2024/12/Carafe-Health-and-Beauty-Online-Store-Website-3.jpg
END:VEVENT
END:VCALENDAR